BEGIN:VCALENDAR
VERSION:2.0
PRODID:-//MTB Club Discovery - ECPv5.1.4//NONSGML v1.0//EN
CALSCALE:GREGORIAN
METHOD:PUBLISH
X-WR-CALNAME:MTB Club Discovery
X-ORIGINAL-URL:https://mtbclub-discovery.nl
X-WR-CALDESC:Evenementen voor MTB Club Discovery
BEGIN:VTIMEZONE
TZID:Europe/Amsterdam
BEGIN:DAYLIGHT
TZOFFSETFROM:+0100
TZOFFSETTO:+0200
TZNAME:CEST
DTSTART:20170326T010000
END:DAYLIGHT
BEGIN:STANDARD
TZOFFSETFROM:+0200
TZOFFSETTO:+0100
TZNAME:CET
DTSTART:20171029T010000
END:STANDARD
END:VTIMEZONE
BEGIN:VEVENT
DTSTART;TZID=Europe/Amsterdam:20170830T190000
DTEND;TZID=Europe/Amsterdam:20170830T210000
DTSTAMP:20260423T145049
CREATED:20170822T102151Z
LAST-MODIFIED:20170822T102151Z
UID:66886-1504119600-1504126800@mtbclub-discovery.nl
SUMMARY:Avondclubtocht 30 augustus
DESCRIPTION:Woensdagavond is avondclubtocht bij Discovery. Vanaf 19.00 uur rijden we ongeveer 2 uur met het tempo samen uit\, samen thuis. \nWe beginnen zoals altijd op Park Strijthagen en ter plaatse verzinnen we een leuke route. \n
URL:https://mtbclub-discovery.nl/kalender/avondclubtocht-30-augustus/
LOCATION:Park Strijthagen\, Hofstraat 5\, Landgraaf\, Limburg\, Nederland
CATEGORIES:Clubtocht
END:VEVENT
END:VCALENDAR