BEGIN:VCALENDAR
VERSION:2.0
PRODID:-//MTB Club Discovery - ECPv5.1.4//NONSGML v1.0//EN
CALSCALE:GREGORIAN
METHOD:PUBLISH
X-WR-CALNAME:MTB Club Discovery
X-ORIGINAL-URL:https://mtbclub-discovery.nl
X-WR-CALDESC:Evenementen voor MTB Club Discovery
BEGIN:VTIMEZONE
TZID:Europe/Amsterdam
BEGIN:DAYLIGHT
TZOFFSETFROM:+0100
TZOFFSETTO:+0200
TZNAME:CEST
DTSTART:20170326T010000
END:DAYLIGHT
BEGIN:STANDARD
TZOFFSETFROM:+0200
TZOFFSETTO:+0100
TZNAME:CET
DTSTART:20171029T010000
END:STANDARD
END:VTIMEZONE
BEGIN:VEVENT
DTSTART;TZID=Europe/Amsterdam:20170628T190000
DTEND;TZID=Europe/Amsterdam:20170628T210000
DTSTAMP:20260422T084309
CREATED:20170622T123544Z
LAST-MODIFIED:20170622T123544Z
UID:66716-1498676400-1498683600@mtbclub-discovery.nl
SUMMARY:Avondclubtocht 28 juni
DESCRIPTION:Woensdagavond is avondclubtocht! Vanaf 19.00 uur rijden we vanaf Park Strijthagen tot ongeveer 21.00 uur. Het motto is samen uit\, samen thuis. Natuurlijk gaan we even kijken naar de vorderingen van de Pumptrack… \n  \n
URL:https://mtbclub-discovery.nl/kalender/avondclubtocht-28-juni/
LOCATION:Park Strijthagen\, Hofstraat 5\, Landgraaf\, Limburg\, Nederland
CATEGORIES:Clubtocht
END:VEVENT
END:VCALENDAR