BEGIN:VCALENDAR
VERSION:2.0
PRODID:-//MTB Club Discovery - ECPv5.1.4//NONSGML v1.0//EN
CALSCALE:GREGORIAN
METHOD:PUBLISH
X-WR-CALNAME:MTB Club Discovery
X-ORIGINAL-URL:https://mtbclub-discovery.nl
X-WR-CALDESC:Evenementen voor MTB Club Discovery
BEGIN:VTIMEZONE
TZID:Europe/Amsterdam
BEGIN:DAYLIGHT
TZOFFSETFROM:+0100
TZOFFSETTO:+0200
TZNAME:CEST
DTSTART:20170326T010000
END:DAYLIGHT
BEGIN:STANDARD
TZOFFSETFROM:+0200
TZOFFSETTO:+0100
TZNAME:CET
DTSTART:20171029T010000
END:STANDARD
END:VTIMEZONE
BEGIN:VEVENT
DTSTART;TZID=Europe/Amsterdam:20170927T190000
DTEND;TZID=Europe/Amsterdam:20170927T210000
DTSTAMP:20260424T074136
CREATED:20170920T130222Z
LAST-MODIFIED:20170920T130222Z
UID:66987-1506538800-1506546000@mtbclub-discovery.nl
SUMMARY:Avondclubtocht 27 september
DESCRIPTION:Woensdagavond is avondclubtocht bij Discovery. We vertrekken om 19.00 uur op Park Strijthagen en rijden tot ongeveer 21.00 uur onder het motto samen uit\, samen thuis. \nVerlichting meenemen dus\, want om 21.00 uur is het al donker! \n
URL:https://mtbclub-discovery.nl/kalender/avondclubtocht-27-september/
LOCATION:Park Strijthagen\, Hofstraat 5\, Landgraaf\, Limburg\, Nederland
CATEGORIES:Clubtocht
END:VEVENT
END:VCALENDAR