BEGIN:VCALENDAR
VERSION:2.0
PRODID:-//MTB Club Discovery - ECPv5.1.4//NONSGML v1.0//EN
CALSCALE:GREGORIAN
METHOD:PUBLISH
X-WR-CALNAME:MTB Club Discovery
X-ORIGINAL-URL:https://mtbclub-discovery.nl
X-WR-CALDESC:Evenementen voor MTB Club Discovery
BEGIN:VTIMEZONE
TZID:Europe/Amsterdam
BEGIN:DAYLIGHT
TZOFFSETFROM:+0100
TZOFFSETTO:+0200
TZNAME:CEST
DTSTART:20170326T010000
END:DAYLIGHT
BEGIN:STANDARD
TZOFFSETFROM:+0200
TZOFFSETTO:+0100
TZNAME:CET
DTSTART:20171029T010000
END:STANDARD
END:VTIMEZONE
BEGIN:VEVENT
DTSTART;TZID=Europe/Amsterdam:20170524T190000
DTEND;TZID=Europe/Amsterdam:20170524T210000
DTSTAMP:20260423T020732
CREATED:20170518T112153Z
LAST-MODIFIED:20170518T112153Z
UID:66647-1495652400-1495659600@mtbclub-discovery.nl
SUMMARY:Avondclubtocht 24 mei
DESCRIPTION:Vorige week reden we een erg warme avondclubtocht en was het doel om een ijsje te gaan eten in Herzogenrath. Dat was niet gelukt\, wel maakten we een bonusrondje over het NK parcours. Wat gaan we deze week doen? Laat je verrassen! \nVerzamelen om 19.00 uur op Park Strijthagen. Fietsen onder het motto ‘Samen uit\, samen thuis’. \n
URL:https://mtbclub-discovery.nl/kalender/avondclubtocht-24-mei/
LOCATION:Park Strijthagen\, Hofstraat 5\, Landgraaf\, Limburg\, Nederland
CATEGORIES:Clubtocht
END:VEVENT
END:VCALENDAR