BEGIN:VCALENDAR
VERSION:2.0
PRODID:-//MTB Club Discovery - ECPv5.1.4//NONSGML v1.0//EN
CALSCALE:GREGORIAN
METHOD:PUBLISH
X-WR-CALNAME:MTB Club Discovery
X-ORIGINAL-URL:https://mtbclub-discovery.nl
X-WR-CALDESC:Evenementen voor MTB Club Discovery
BEGIN:VTIMEZONE
TZID:Europe/Amsterdam
BEGIN:DAYLIGHT
TZOFFSETFROM:+0100
TZOFFSETTO:+0200
TZNAME:CEST
DTSTART:20170326T010000
END:DAYLIGHT
BEGIN:STANDARD
TZOFFSETFROM:+0200
TZOFFSETTO:+0100
TZNAME:CET
DTSTART:20171029T010000
END:STANDARD
END:VTIMEZONE
BEGIN:VEVENT
DTSTART;TZID=Europe/Amsterdam:20170920T190000
DTEND;TZID=Europe/Amsterdam:20170920T210000
DTSTAMP:20260424T044432
CREATED:20170914T105207Z
LAST-MODIFIED:20170914T105207Z
UID:66926-1505934000-1505941200@mtbclub-discovery.nl
SUMMARY:Avondclubtocht 20 september
DESCRIPTION:Woensdagavond is avondclubtocht! We starten om 19.00 uur op Park Strijthagen en rijden ongeveer 2 uur onder het motto samen uit\, samen thuis. \nWie gaat er mee? \nVerlichting meenemen! \n
URL:https://mtbclub-discovery.nl/kalender/avondclubtocht-20-september/
LOCATION:Park Strijthagen\, Hofstraat 5\, Landgraaf\, Limburg\, Nederland
CATEGORIES:Clubtocht
END:VEVENT
END:VCALENDAR