BEGIN:VCALENDAR
VERSION:2.0
PRODID:-//MTB Club Discovery - ECPv5.1.4//NONSGML v1.0//EN
CALSCALE:GREGORIAN
METHOD:PUBLISH
X-WR-CALNAME:MTB Club Discovery
X-ORIGINAL-URL:https://mtbclub-discovery.nl
X-WR-CALDESC:Evenementen voor MTB Club Discovery
BEGIN:VTIMEZONE
TZID:Europe/Amsterdam
BEGIN:DAYLIGHT
TZOFFSETFROM:+0100
TZOFFSETTO:+0200
TZNAME:CEST
DTSTART:20170326T010000
END:DAYLIGHT
BEGIN:STANDARD
TZOFFSETFROM:+0200
TZOFFSETTO:+0100
TZNAME:CET
DTSTART:20171029T010000
END:STANDARD
END:VTIMEZONE
BEGIN:VEVENT
DTSTART;TZID=Europe/Amsterdam:20171018T190000
DTEND;TZID=Europe/Amsterdam:20171018T210000
DTSTAMP:20260425T012114
CREATED:20171011T114818Z
LAST-MODIFIED:20171011T114818Z
UID:67007-1508353200-1508360400@mtbclub-discovery.nl
SUMMARY:Avondclubtocht 18 oktober
DESCRIPTION:Woensdagavond is avondclubtocht. Vertrek om 19.00 uur op Park Strijthagen\, tot ongeveer 21.00 uur. Samen uit\, samen thuis. \nVerlichting meenemen. \n
URL:https://mtbclub-discovery.nl/kalender/avondclubtocht-18-oktober/
LOCATION:Park Strijthagen\, Hofstraat 5\, Landgraaf\, Limburg\, Nederland
END:VEVENT
END:VCALENDAR