BEGIN:VCALENDAR
VERSION:2.0
PRODID:-//MTB Club Discovery - ECPv5.1.4//NONSGML v1.0//EN
CALSCALE:GREGORIAN
METHOD:PUBLISH
X-WR-CALNAME:MTB Club Discovery
X-ORIGINAL-URL:https://mtbclub-discovery.nl
X-WR-CALDESC:Evenementen voor MTB Club Discovery
BEGIN:VTIMEZONE
TZID:Europe/Amsterdam
BEGIN:DAYLIGHT
TZOFFSETFROM:+0100
TZOFFSETTO:+0200
TZNAME:CEST
DTSTART:20170326T010000
END:DAYLIGHT
BEGIN:STANDARD
TZOFFSETFROM:+0200
TZOFFSETTO:+0100
TZNAME:CET
DTSTART:20171029T010000
END:STANDARD
END:VTIMEZONE
BEGIN:VEVENT
DTSTART;TZID=Europe/Amsterdam:20171108T080000
DTEND;TZID=Europe/Amsterdam:20171108T170000
DTSTAMP:20260425T142137
CREATED:20171108T111222Z
LAST-MODIFIED:20171108T111222Z
UID:67064-1510128000-1510160400@mtbclub-discovery.nl
SUMMARY:Avondclubtocht 15 november
DESCRIPTION:Woensdagavond is avondclubtocht. Start om 19.00 uur op Park Strijthagen\, om ongeveer 21.00 uur zijn we weer terug. \n
URL:https://mtbclub-discovery.nl/kalender/avondclubtocht-15-november/
LOCATION:Park Strijthagen\, Hofstraat 5\, Landgraaf\, Limburg\, Nederland
CATEGORIES:Clubtocht
END:VEVENT
END:VCALENDAR