BEGIN:VCALENDAR
VERSION:2.0
PRODID:-//MTB Club Discovery - ECPv5.1.4//NONSGML v1.0//EN
CALSCALE:GREGORIAN
METHOD:PUBLISH
X-WR-CALNAME:MTB Club Discovery
X-ORIGINAL-URL:https://mtbclub-discovery.nl
X-WR-CALDESC:Evenementen voor MTB Club Discovery
BEGIN:VTIMEZONE
TZID:Europe/Amsterdam
BEGIN:DAYLIGHT
TZOFFSETFROM:+0100
TZOFFSETTO:+0200
TZNAME:CEST
DTSTART:20170326T010000
END:DAYLIGHT
BEGIN:STANDARD
TZOFFSETFROM:+0200
TZOFFSETTO:+0100
TZNAME:CET
DTSTART:20171029T010000
END:STANDARD
END:VTIMEZONE
BEGIN:VEVENT
DTSTART;TZID=Europe/Amsterdam:20170614T190000
DTEND;TZID=Europe/Amsterdam:20170614T210000
DTSTAMP:20260422T164844
CREATED:20170608T110035Z
LAST-MODIFIED:20170608T110035Z
UID:66682-1497466800-1497474000@mtbclub-discovery.nl
SUMMARY:Avondclubtocht 14 juni
DESCRIPTION:Woensdagavond is avondclubtocht avond. We verzamelen om 19.00 uur op Park Strijthagen en rijden tot ongeveer 21.00 uur. Samen uit\, samen thuis en de te rijden route beslissen we ter plekke. \n  \nKom jij ook? \n
URL:https://mtbclub-discovery.nl/kalender/avondclubtocht-14-juni/
LOCATION:Park Strijthagen\, Hofstraat 5\, Landgraaf\, Limburg\, Nederland
CATEGORIES:Clubtocht
END:VEVENT
END:VCALENDAR