BEGIN:VCALENDAR
VERSION:2.0
PRODID:-//MTB Club Discovery - ECPv5.1.4//NONSGML v1.0//EN
CALSCALE:GREGORIAN
METHOD:PUBLISH
X-WR-CALNAME:MTB Club Discovery
X-ORIGINAL-URL:https://mtbclub-discovery.nl
X-WR-CALDESC:Evenementen voor MTB Club Discovery
BEGIN:VTIMEZONE
TZID:Europe/Amsterdam
BEGIN:DAYLIGHT
TZOFFSETFROM:+0100
TZOFFSETTO:+0200
TZNAME:CEST
DTSTART:20170326T010000
END:DAYLIGHT
BEGIN:STANDARD
TZOFFSETFROM:+0200
TZOFFSETTO:+0100
TZNAME:CET
DTSTART:20171029T010000
END:STANDARD
END:VTIMEZONE
BEGIN:VEVENT
DTSTART;TZID=Europe/Amsterdam:20170903T090000
DTEND;TZID=Europe/Amsterdam:20170903T130000
DTSTAMP:20260423T163222
CREATED:20170831T110540Z
LAST-MODIFIED:20170831T110540Z
UID:66907-1504429200-1504443600@mtbclub-discovery.nl
SUMMARY:ATB Tocht Swalmen
DESCRIPTION:Olaf gaat 3 september de 55km versie van de ATB tocht in Swalmen rijden. Wie gaat er mee? \nMeer info over deze toertocht is hier te vinden. \nContact leggen met Olaf kan via het betreffende forum onderwerp. \n
URL:https://mtbclub-discovery.nl/kalender/atb-tocht-swalmen/
LOCATION:’t Klumpke\, Rijksweg Zuid 40\, Swalmen\, Nederland
CATEGORIES:Tourtocht
END:VEVENT
END:VCALENDAR