BEGIN:VCALENDAR
VERSION:2.0
PRODID:-//MTB Club Discovery - ECPv5.1.4//NONSGML v1.0//EN
CALSCALE:GREGORIAN
METHOD:PUBLISH
X-WR-CALNAME:MTB Club Discovery
X-ORIGINAL-URL:https://mtbclub-discovery.nl
X-WR-CALDESC:Evenementen voor MTB Club Discovery
BEGIN:VTIMEZONE
TZID:Europe/Amsterdam
BEGIN:DAYLIGHT
TZOFFSETFROM:+0100
TZOFFSETTO:+0200
TZNAME:CEST
DTSTART:20170326T010000
END:DAYLIGHT
BEGIN:STANDARD
TZOFFSETFROM:+0200
TZOFFSETTO:+0100
TZNAME:CET
DTSTART:20171029T010000
END:STANDARD
END:VTIMEZONE
BEGIN:VEVENT
DTSTART;TZID=Europe/Amsterdam:20170825T090000
DTEND;TZID=Europe/Amsterdam:20170825T130000
DTSTAMP:20260423T100502
CREATED:20170822T103352Z
LAST-MODIFIED:20170822T103352Z
UID:66888-1503651600-1503666000@mtbclub-discovery.nl
SUMMARY:All Mountain tocht Spa
DESCRIPTION:Vrijdag 25 augustus organiseert Ritchie een All Mountain Tocht in Spa. Dit is een leuke uitdagende tocht voor beginnende en gevorderde Enduro / all mountain rijders. \nMoeilijkheidsgraad en duur is onbekend\, want het is ook de eerste keer dat Ritchie hem gaat rijden. De tocht gaat overigens niet over de vaste routes rondom Spa. \nVertrek om 9.00 uur uit Landgraaf\, full suspension en bescherming worden aangeraden. \nAanmelden kan via het betreffende forum topic. \n
URL:https://mtbclub-discovery.nl/kalender/all-mountain-tocht-spa/
LOCATION:Park Strijthagen\, Hofstraat 5\, Landgraaf\, Limburg\, Nederland
CATEGORIES:Clubtocht
END:VEVENT
END:VCALENDAR