BEGIN:VCALENDAR
VERSION:2.0
PRODID:-//MTB Club Discovery - ECPv5.1.4//NONSGML v1.0//EN
CALSCALE:GREGORIAN
METHOD:PUBLISH
X-WR-CALNAME:MTB Club Discovery
X-ORIGINAL-URL:https://mtbclub-discovery.nl
X-WR-CALDESC:Evenementen voor MTB Club Discovery
BEGIN:VTIMEZONE
TZID:Europe/Amsterdam
BEGIN:DAYLIGHT
TZOFFSETFROM:+0100
TZOFFSETTO:+0200
TZNAME:CEST
DTSTART:20240331T010000
END:DAYLIGHT
BEGIN:STANDARD
TZOFFSETFROM:+0200
TZOFFSETTO:+0100
TZNAME:CET
DTSTART:20241027T010000
END:STANDARD
END:VTIMEZONE
BEGIN:VEVENT
DTSTART;TZID=Europe/Amsterdam:20240323T193000
DTEND;TZID=Europe/Amsterdam:20240323T213000
DTSTAMP:20260424T001407
CREATED:20240216T111804Z
LAST-MODIFIED:20240313T104520Z
UID:69407-1711222200-1711229400@mtbclub-discovery.nl
SUMMARY:Algemene Ledenvergadering 2024
DESCRIPTION:De ALV van 2024 zal plaatsvinden op 23 maart vanaf 19.30 uur bij Park Strijthagen\, Hofstraat 5 te Landgraaf. \nIn deze ALV wordt teruggekeken op 2023 en zullen we vooruit kijken op de komende periode. \n  \nAgenda: \nInloop vanaf 19.15 uur. \n\nOpening en mededelingen jaarvergadering\n* Ingekomen stukken\nVaststellen notulen 2023\n\nDe notulen van de ALV 2023 worden vooraf gedeeld via de nieuwsbrief\, deze worden tijdens de vergadering niet inhoudelijk doorgenomen. Wel is er mogelijkheid tot vragen en wijzigingen\, zowel tekstueel als inhoudelijk. \n\nJaarverslag 2023\n\nHet jaarverslag wordt vooraf gedeeld via de nieuwsbrief en tijdens de vergadering op hoofdlijnen doorgenomen. Er is mogelijkheid voor het stellen van vragen. \n\nFinancieel jaarverslag 2023\n\nHet financieel jaarverslag wordt ook vooraf gedeeld via de nieuwsbrief en tijdens de vergadering is er mogelijkheid voor het stellen van vragen. \n\nKascontrolecommissie \nVaststelling contributie\n\nHet bestuur is voornemens de contributie niet te wijzigen. \n\nBestuursverkiezing\n\nVolgens de statuten zijn de bestuursleden aftredend volgens een roulatieschema. Dit jaar zijn de volgende bestuursfuncties aftredend en verkiesbaar: \n\nBestuurslid Jeugd: aftredend Frank Vaassen – herkiesbaar \nBestuurslid Financiën: aftredend Julien van Montfort – herkiesbaar\n\nBestuurslid Communicatie: aftredend Rik Mertens – niet herkiesbaar\n\nRik Mertens heeft kenbaar gemaakt dat hij stopt als bestuurslid. In zijn “portefeuille” zat communicatie. Deze taak blijft hij als niet bestuurslid uitvoeren. \nAls bestuur zijn wij op zoek naar 2 nieuwe algemeen bestuursleden. Lijkt het je leuk om actief bij te dragen aan onze mooie vereniging\, neem dan contact op met onderstaand emailadres. \nKandidaten voor beide bestuursfuncties kunnen zich kenbaar maken bij het bestuur via bestuur@mtbclub-discovery.nl \n\nOntwikkelingen MTB Routes Parkstad \nDiscovery Juniors \nDiscovery activiteiten \nCommunicatie \nV.T.T.K. & Rondvraag \nSluiting\n\n  \n
URL:https://mtbclub-discovery.nl/kalender/algemene-ledenvergadering-2024/
LOCATION:Park Strijthagen\, Hofstraat 5\, Landgraaf\, Limburg\, Nederland
CATEGORIES:Jaarvergadering
END:VEVENT
END:VCALENDAR