BEGIN:VCALENDAR
VERSION:2.0
PRODID:-//MTB Club Discovery - ECPv5.1.4//NONSGML v1.0//EN
CALSCALE:GREGORIAN
METHOD:PUBLISH
X-WR-CALNAME:MTB Club Discovery
X-ORIGINAL-URL:https://mtbclub-discovery.nl
X-WR-CALDESC:Evenementen voor MTB Club Discovery
BEGIN:VTIMEZONE
TZID:Europe/Amsterdam
BEGIN:DAYLIGHT
TZOFFSETFROM:+0100
TZOFFSETTO:+0200
TZNAME:CEST
DTSTART:20230326T010000
END:DAYLIGHT
BEGIN:STANDARD
TZOFFSETFROM:+0200
TZOFFSETTO:+0100
TZNAME:CET
DTSTART:20231029T010000
END:STANDARD
END:VTIMEZONE
BEGIN:VEVENT
DTSTART;TZID=Europe/Amsterdam:20230325T193000
DTEND;TZID=Europe/Amsterdam:20230325T213000
DTSTAMP:20260424T200715
CREATED:20230309T132718Z
LAST-MODIFIED:20230317T155258Z
UID:69279-1679772600-1679779800@mtbclub-discovery.nl
SUMMARY:Algemene Ledenvergadering 2023
DESCRIPTION:De ALV van 2023 zal plaatsvinden op 25 maart vanaf 19.30 uur bij Park Strijthagen\, Hofstraat 1 te Landgraaf. \nIn deze ALV wordt teruggekeken op 2022 en zullen we vooruit kijken op de komende periode. \nAgenda: \nInloop vanaf 19.15 uur. \n\nOpening en mededelingen jaarvergadering.\n* Ingekomen stukken\nVaststellen notulen 2022\n\nDe notulen van de ALV 2022 worden vooraf gedeeld via de nieuwsbrief\, deze worden tijdens de vergadering niet inhoudelijk doorgenomen. Wel is er mogelijkheid tot vragen en wijzigingen\, zowel tekstueel als inhoudelijk. \n\nJaarverslag 2022\n\nHet jaarverslag wordt vooraf gedeeld via de nieuwsbrief en tijdens de vergadering op hoofdlijnen doorgenomen. Er is mogelijkheid voor het stellen van vragen. \n\nFinancieel jaarverslag 2021\n\nHet financieel jaarverslag wordt ook vooraf gedeeld via de nieuwsbrief en tijdens de vergadering is er mogelijkheid voor het stellen van vragen. \n\nKascontrolecommissie \nVaststelling contributie\n\nHet bestuur is voornemens de contributie niet te wijzigen. \n\nBestuursverkiezing\n\nVolgens de statuten zijn de bestuursleden aftredend volgens een roulatieschema. Dit jaar zijn de volgende bestuursfuncties aftredend en verkiesbaar: \n\nSecretaris: Vacant\, sinds ALV 2022 waargenomen door Lambert Valentijn \nBestuurslid communicatie: aftredend Rik Mertens – herkiesbaar\n\nKandidaten voor beide bestuursfuncties kunnen zich kenbaar maken bij het bestuur via bestuur@mtbclub-discovery.nl \n\nOntwikkelingen MTB Routes Parkstad \nDiscovery Juniors\nDiscovery activiteiten\nCommunicatie\nW.V.T.T.K. & Rondvraag\nSluiting\n\n
URL:https://mtbclub-discovery.nl/kalender/algemene-ledenvergadering-2023/
LOCATION:Park Strijthagen\, Hofstraat 5\, Landgraaf\, Limburg\, Nederland
CATEGORIES:Jaarvergadering
END:VEVENT
END:VCALENDAR