BEGIN:VCALENDAR
VERSION:2.0
PRODID:-//MTB Club Discovery - ECPv5.1.4//NONSGML v1.0//EN
CALSCALE:GREGORIAN
METHOD:PUBLISH
X-WR-CALNAME:MTB Club Discovery
X-ORIGINAL-URL:https://mtbclub-discovery.nl
X-WR-CALDESC:Evenementen voor MTB Club Discovery
BEGIN:VTIMEZONE
TZID:Europe/Amsterdam
BEGIN:DAYLIGHT
TZOFFSETFROM:+0100
TZOFFSETTO:+0200
TZNAME:CEST
DTSTART:20220327T010000
END:DAYLIGHT
BEGIN:STANDARD
TZOFFSETFROM:+0200
TZOFFSETTO:+0100
TZNAME:CET
DTSTART:20221030T010000
END:STANDARD
END:VTIMEZONE
BEGIN:VEVENT
DTSTART;TZID=Europe/Amsterdam:20220226T090000
DTEND;TZID=Europe/Amsterdam:20220226T130000
DTSTAMP:20260425T185428
CREATED:20220225T105928Z
LAST-MODIFIED:20220225T105928Z
UID:68985-1645866000-1645880400@mtbclub-discovery.nl
SUMMARY:2e routewerkochtend Zeekoelen
DESCRIPTION:Op 26 februari is de 2e routewerkochtend voor de aanleg van de nieuwe trail bij de Zeekoelen. We verzamelen om 9 uur op de parkeerplaats van VV Langeberg en werken tot ongeveer 13 uur. Zelf een schep en snoeimateriaal meenemen. \n
URL:https://mtbclub-discovery.nl/kalender/2e-routewerkochtend-zeekoelen/
LOCATION:Langeberg\, Hendrick Avercamp 1\, Brunssum
CATEGORIES:Routewerk
END:VEVENT
END:VCALENDAR